BEGIN:VCALENDAR
VERSION:2.0
PRODID:-//wp-events-plugin.com//7.2.3.1//EN
TZID:Europe/London
X-WR-TIMEZONE:Europe/London
BEGIN:VEVENT
UID:206@choosehowyoumove.co.uk
DTSTART;TZID=Europe/London:20221019T100000
DTEND;TZID=Europe/London:20221019T113000
DTSTAMP:20221004T153022Z
URL:https://www.choosehowyoumove.co.uk/events/a-walk-on-the-wild-side-safa
 ri-from-aylestone-rec-to-washbook-nature-area/
SUMMARY:A Walk on the Wild Side - Nature Safari from Aylestone Rec to Washb
 ook Nature Area
DESCRIPTION:See what you can spot on this 'nature safari' walk. An experien
 ced wildlife guide will lead you around this green space\, pausing to talk
  about the different types of insects\, plants and animals found in Washbr
 ook Nature Area. A great way to have fun while discovering a little about 
 nature in the city.
CATEGORIES:Walking
END:VEVENT
BEGIN:VTIMEZONE
TZID:Europe/London
X-LIC-LOCATION:Europe/London
BEGIN:DAYLIGHT
DTSTART:20220327T020000
TZOFFSETFROM:+0000
TZOFFSETTO:+0100
TZNAME:BST
END:DAYLIGHT
END:VTIMEZONE
END:VCALENDAR