BEGIN:VCALENDAR
VERSION:2.0
PRODID:-//wp-events-plugin.com//7.2.3.1//EN
TZID:Europe/London
X-WR-TIMEZONE:Europe/London
BEGIN:VEVENT
UID:48@choosehowyoumove.co.uk
DTSTART;TZID=Europe/London:20201031T110000
DTEND;TZID=Europe/London:20201031T124500
DTSTAMP:20201031T092427Z
URL:https://www.choosehowyoumove.co.uk/events/abbey-park-to-belgrave-hall-
 via-riverside-and-residential-paths/
SUMMARY:Abbey Park to Belgrave Hall - CANCELLED (Walk 1)
DESCRIPTION:Abbey Park to Belgrave Hall (Walk 1) \nSaturday 31 October\, 1
 1am\nWe regret this walk has been cancelled due to bad weather\n&nbsp\;\nS
 tarting in the Abbey Park –  location to be confirmed on booking\nAroun
 d 90 minutes\, medium pace\nThis is the first of our group walks from Abbe
 y Park this morning. Step out with us for a pleasant walk along the scenic
  River Soar\, passing familiar landmarks including the National Space Cent
 re\, Abbey Pumping Station and Belgrave Hall before returning to beautiful
  Abbey Park via combination of residential and riverside paths. At around 
 3 miles\, this is one of our longer walks\, led at a medium pace. A repeat
  of the walk we first led in autumn 2019. \n&nbsp\;\nBooking opens Thursd
 ay 8 October at 9am. \n\nOur groups are smaller than before so booking 
 is essential for all participants (including children\, who must be acco
 mpanied by an adult) – please see ‘how to book’ below. Please do no
 t turn up at walks if you have not booked – we regret you will be turned
  away. \nDress for the weather\nPlease remember to dress appropriately fo
 r the weather to ensure you are comfortable. \nGroup size\nGroup walks wi
 ll be smaller than before to stay within the ‘rule of 6’ which allow
 s a maximum of 6 people from different households to meet outdoors in a pu
 blic space. This includes our volunteers who lead and assist the walk. To 
 allow opportunities to others\, a maximum of 2 people from the same househ
 old/ support bubble may attend. We are sorry that we cannot accommodate mo
 re people at this time. Please follow instructions for booking places and 
 also observe the guidance below with regards to Covid-19. \nCovid-19 and 
 group walks\n\n	Please do not attend a walk if you or someone in your hous
 ehold/support bubble has symptoms of Covid-19. Instead\, please stay home 
 and self-isolate. See the latest information on the NHS website about self
 -isolating and obtaining a test.\n	If you develop symptoms within 14 days 
 of attending a group walk\, please let us know so that we can contact othe
 rs.\n	During walks\, we kindly ask walkers to maintain the 2m social dist
 ancing from each other and members of the public (or at least 1m if you a
 re wearing a face mask).\n	Take hygiene precautions when you are outside (
 you may wish to carry your own hand sanitizer) and wash your hands as soon
  as you are back indoors.\n\nSelf-guided routes\nIf you have been unable t
 o book onto one of our group walks\, or you prefer to explore with your fa
 mily or friends\, self-guided routes are available to download from our r
 outes page or via the Go Jauntly smartphone app. Enjoy exploring Leices
 ter this autumn.
CATEGORIES:Walking
END:VEVENT
BEGIN:VTIMEZONE
TZID:Europe/London
X-LIC-LOCATION:Europe/London
BEGIN:STANDARD
DTSTART:20201025T010000
TZOFFSETFROM:+0100
TZOFFSETTO:+0000
TZNAME:GMT
END:STANDARD
END:VTIMEZONE
END:VCALENDAR