BEGIN:VCALENDAR
VERSION:2.0
PRODID:-//wp-events-plugin.com//7.2.3.1//EN
TZID:Europe/London
X-WR-TIMEZONE:Europe/London
BEGIN:VEVENT
UID:416@choosehowyoumove.co.uk
DTSTART;TZID=Europe/London:20251208T093000
DTEND;TZID=Europe/London:20251208T133000
DTSTAMP:20251204T153300Z
URL:https://www.choosehowyoumove.co.uk/events/big-travel-survey-melton-lei
 sure-centre/
SUMMARY:Big Travel Survey - Melton Leisure Centre
DESCRIPTION:The Choose How You Move Team will be in Waterfield Leisure Cent
 re in Melton. Please come along and participate in the Big Travel Survey g
 oing on in Leicestershire. We will have goodies\, but also paper copies of
  the survey for those struggling to complete it online.\nHope to see you t
 here!\n&nbsp\;\nTell Us About How You Travel in Leicestershire \nLeiceste
 rshire is running a local travel survey to better understand how people ge
 t around in their everyday lives. How you take your journeys\, whether you
  drive\, walk\, wheel\, cycle\, use public transport\, or rely on lifts fr
 om others – your experiences matter. \nBy taking part\, you’ll help u
 s: \n\n	Learn how\, why\, when and where people travel across Leicestersh
 ire \n\n\n	Understand what makes travel easier or more difficult \n\n\n	
 Identify barriers that prevent people from accessing essential services l
 ike healthcare\, education\, shops and leisure activities\, as well as 
 work places. \n\nWhy your input matters: \nEveryone’s travel experienc
 e is different – and that’s why your input is so valuable. No matter
  your mode of transport – we want to understand what works well and what
  could be better for you. \nWe’re also keen to learn about any challeng
 es you face\; such access to services\, and work places. Your feedback wi
 ll help us shape future plans that support more inclusive travel across 
 Leicestershire. \nTaking part is simple\, and your information will be ke
 pt confidential. Every response helps us make better decisions for our com
 munities. \nHow to get involved: \nClick the below links to be taken to 
 the Big Travel Survey page: \nhttps://www.leicestershire.gov.uk/news/big-
 travel-survey-launches-in-leicestershire \nBig travel survey – Link to
  Big Travel Survey \nSocial Pinpoint  - Link to Social Pinpoint exer
 cise \n  \nYour feedback is invaluable and helps to shape important fu
 ture decisions. \n&nbsp\;
CATEGORIES:Cycling,Family,Public Transport,Walking
END:VEVENT
BEGIN:VTIMEZONE
TZID:Europe/London
X-LIC-LOCATION:Europe/London
BEGIN:STANDARD
DTSTART:20251026T010000
TZOFFSETFROM:+0100
TZOFFSETTO:+0000
TZNAME:GMT
END:STANDARD
END:VTIMEZONE
END:VCALENDAR