BEGIN:VCALENDAR
VERSION:2.0
PRODID:-//wp-events-plugin.com//7.2.3.1//EN
TZID:Europe/London
X-WR-TIMEZONE:Europe/London
BEGIN:VEVENT
UID:415@choosehowyoumove.co.uk
DTSTART;TZID=Europe/London:20251209T100000
DTEND;TZID=Europe/London:20251209T140000
DTSTAMP:20251204T152117Z
URL:https://www.choosehowyoumove.co.uk/events/big-travel-survey-starbucks-
 oadby/
SUMMARY:Big Travel Survey - Starbucks Oadby
DESCRIPTION:The Choose How You Move Team will be in Starbucks Coffee in Oad
 by. Please come along and participate in the Big Travel Survey going on in
  Leicestershire. We will have goodies\, but also paper copies of the surve
 y for those struggling to complete it online.\nHope to see you there!\n&nb
 sp\;\nTell Us About How You Travel in Leicestershire \nLeicestershire is 
 running a local travel survey to better understand how people get around i
 n their everyday lives. How you take your journeys\, whether you drive\, w
 alk\, wheel\, cycle\, use public transport\, or rely on lifts from others 
 – your experiences matter. \nBy taking part\, you’ll help us: \n\n	L
 earn how\, why\, when and where people travel across Leicestershire \n\n\
 n	Understand what makes travel easier or more difficult \n\n\n	Identify 
 barriers that prevent people from accessing essential services like health
 care\, education\, shops and leisure activities\, as well as work place
 s. \n\nWhy your input matters: \nEveryone’s travel experience is diffe
 rent – and that’s why your input is so valuable. No matter your mode
  of transport – we want to understand what works well and what could be 
 better for you. \nWe’re also keen to learn about any challenges you fac
 e\; such access to services\, and work places. Your feedback will help us
  shape future plans that support more inclusive travel across Leicesters
 hire. \nTaking part is simple\, and your information will be kept confide
 ntial. Every response helps us make better decisions for our communities.
  \nHow to get involved: \nClick the below links to be taken to the Big T
 ravel Survey page: \nhttps://www.leicestershire.gov.uk/news/big-travel-su
 rvey-launches-in-leicestershire \nBig travel survey – Link to Big Tr
 avel Survey \nSocial Pinpoint  - Link to Social Pinpoint exercise \n
   \nYour feedback is invaluable and helps to shape important future dec
 isions. \n&nbsp\;
CATEGORIES:Cycling,Family,Public Transport,Walking
END:VEVENT
BEGIN:VTIMEZONE
TZID:Europe/London
X-LIC-LOCATION:Europe/London
BEGIN:STANDARD
DTSTART:20251026T010000
TZOFFSETFROM:+0100
TZOFFSETTO:+0000
TZNAME:GMT
END:STANDARD
END:VTIMEZONE
END:VCALENDAR