BEGIN:VCALENDAR
VERSION:2.0
PRODID:-//wp-events-plugin.com//7.2.3.1//EN
TZID:Europe/London
X-WR-TIMEZONE:Europe/London
BEGIN:VEVENT
UID:328@choosehowyoumove.co.uk
DTSTART;TZID=Europe/London:20250629T100000
DTEND;TZID=Europe/London:20250629T170000
DTSTAMP:20250624T152809Z
URL:https://www.choosehowyoumove.co.uk/events/botanic-gardens-plant-sale-a
 nd-family-day/
SUMMARY:Botanic Gardens Plant Sale and Family Day
DESCRIPTION:Come and see the Choose How You Move team at the Botanic Garden
 s in Oadby!
END:VEVENT
BEGIN:VTIMEZONE
TZID:Europe/London
X-LIC-LOCATION:Europe/London
BEGIN:DAYLIGHT
DTSTART:20250330T020000
TZOFFSETFROM:+0000
TZOFFSETTO:+0100
TZNAME:BST
END:DAYLIGHT
END:VTIMEZONE
END:VCALENDAR