BEGIN:VCALENDAR
VERSION:2.0
PRODID:-//wp-events-plugin.com//7.2.3.1//EN
TZID:Europe/London
X-WR-TIMEZONE:Europe/London
BEGIN:VEVENT
UID:397@choosehowyoumove.co.uk
DTSTART;TZID=Europe/London:20251023T100000
DTEND;TZID=Europe/London:20251023T130000
DTSTAMP:20250903T083026Z
URL:https://www.choosehowyoumove.co.uk/events/choose-how-you-move-roadshow
 -loughborough-market/
SUMMARY:Choose How You Move Roadshow - Loughborough Market
DESCRIPTION:\n\n\nThe Choose How You Move Team will be at the Loughborough 
 Market to give local residents the opportunity to:\n \n\n\n	Free resource
 s and giveaways - pick up cycling maps and freebies to assist you with tra
 velling actively.\n	Discover greener ways to travel - speak to our Sustain
 able Travel officers for advice on walking\, cycling\, public transport an
 d more.\n	Learn how active travel improves your health and wellbeing.\n	Fi
 nd out about local initiatives\, events and programmes to help you travel 
 actively.\n\n\n \n \n\n\n
CATEGORIES:Cycling,Walking
END:VEVENT
BEGIN:VTIMEZONE
TZID:Europe/London
X-LIC-LOCATION:Europe/London
BEGIN:DAYLIGHT
DTSTART:20250330T020000
TZOFFSETFROM:+0000
TZOFFSETTO:+0100
TZNAME:BST
END:DAYLIGHT
END:VTIMEZONE
END:VCALENDAR