BEGIN:VCALENDAR
VERSION:2.0
PRODID:-//wp-events-plugin.com//7.2.3.1//EN
TZID:Europe/London
X-WR-TIMEZONE:Europe/London
BEGIN:VEVENT
UID:439@choosehowyoumove.co.uk
DTSTART;TZID=Europe/London:20260421T080000
DTEND;TZID=Europe/London:20260421T150000
DTSTAMP:20260420T094732Z
URL:https://www.choosehowyoumove.co.uk/events/choose-how-you-move-roadshow
 -melton-market/
SUMMARY:Choose How You Move Roadshow - Melton Market
DESCRIPTION:\n\n\nThe Choose How You Move Team will be at the Melton Market
  to give local residents the opportunity to:\n \n\n\n	Free resources and 
 giveaways - pick up cycling maps and freebies to assist you with travellin
 g actively.\n	Discover greener ways to travel - speak to our Sustainable T
 ravel officers for advice on walking\, cycling\, public transport and more
 .\n	Learn how active travel improves your health and wellbeing.\n	Find out
  about local initiatives\, events and programmes to help you travel active
 ly.\n\n\n \n \n\n\n
CATEGORIES:Cycling,Walking
END:VEVENT
BEGIN:VTIMEZONE
TZID:Europe/London
X-LIC-LOCATION:Europe/London
BEGIN:DAYLIGHT
DTSTART:20260329T020000
TZOFFSETFROM:+0000
TZOFFSETTO:+0100
TZNAME:BST
END:DAYLIGHT
END:VTIMEZONE
END:VCALENDAR