BEGIN:VCALENDAR
VERSION:2.0
PRODID:-//wp-events-plugin.com//7.2.3.1//EN
TZID:Europe/London
X-WR-TIMEZONE:Europe/London
BEGIN:VEVENT
UID:407@choosehowyoumove.co.uk
DTSTART;TZID=Europe/London:20251114T100000
DTEND;TZID=Europe/London:20251114T130000
DTSTAMP:20251114T081243Z
URL:https://www.choosehowyoumove.co.uk/events/choose-how-you-move-roadshow
 -newmarket-market-2/
SUMMARY:Choose How You Move Roadshow - Newmarket Market
DESCRIPTION:\n\n\nPLEASE NOTE: This event has been cancelled due to the ser
 ver weather warning in place. This event will be re-scheduled soon. Thank 
 you for your understanding. \n \nThe Choose How You Move Team will be at 
 the Newmarket Market to give local residents the opportunity to:\n \n\n\n
 	Free resources and giveaways - pick up cycling maps and freebies to assis
 t you with travelling actively.\n	Discover greener ways to travel - speak 
 to our Sustainable Travel officers for advice on walking\, cycling\, publi
 c transport and more.\n	Learn how active travel improves your health and w
 ellbeing.\n	Find out about local initiatives\, events and programmes to he
 lp you travel actively.\n\n\n \n \n\n\n
CATEGORIES:Cycling,Walking
END:VEVENT
BEGIN:VTIMEZONE
TZID:Europe/London
X-LIC-LOCATION:Europe/London
BEGIN:STANDARD
DTSTART:20251026T010000
TZOFFSETFROM:+0100
TZOFFSETTO:+0000
TZNAME:GMT
END:STANDARD
END:VTIMEZONE
END:VCALENDAR