BEGIN:VCALENDAR
VERSION:2.0
PRODID:-//wp-events-plugin.com//7.2.3.1//EN
TZID:Europe/London
X-WR-TIMEZONE:Europe/London
BEGIN:VEVENT
UID:346@choosehowyoumove.co.uk
DTSTART;TZID=Europe/London:20250828T100000
DTEND;TZID=Europe/London:20250828T140000
DTSTAMP:20250618T133751Z
URL:https://www.choosehowyoumove.co.uk/events/community-marketplace-event-
 lutterworth/
SUMMARY:Community Marketplace Event - Lutterworth
DESCRIPTION:\n\n\n\nThe FoxConnect Team will be at the Community Marketplac
 e Event and will be available to give residents the opportunity to\;\n• 
 Find out more about the FoxConnect bookable bus service\n• Talk to us ab
 out how the service works\n• Receive demonstrations on how to book journ
 eys using the App or guidance on making bookings by telephone\n \n\n\n\n
END:VEVENT
BEGIN:VTIMEZONE
TZID:Europe/London
X-LIC-LOCATION:Europe/London
BEGIN:DAYLIGHT
DTSTART:20250330T020000
TZOFFSETFROM:+0000
TZOFFSETTO:+0100
TZNAME:BST
END:DAYLIGHT
END:VTIMEZONE
END:VCALENDAR