BEGIN:VCALENDAR
VERSION:2.0
PRODID:-//wp-events-plugin.com//7.2.3.1//EN
TZID:Europe/London
X-WR-TIMEZONE:Europe/London
BEGIN:VEVENT
UID:1@choosehowyoumove.co.uk
DTSTART;TZID=Europe/London:20191216T110000
DTEND;TZID=Europe/London:20191216T140000
DTSTAMP:20191119T154508Z
URL:https://www.choosehowyoumove.co.uk/events/cycle-surgery-leicester-roya
 l-infirmary/
SUMMARY:Cycle Surgery @ Leicester Royal Infirmary
DESCRIPTION:Find Dr Bike in Car Park B (opposite Nelson Mandela Park) for
  free cycle safety checks. For UHL and Leicestershire Partnership NHS Trus
 t staff\, but open to members of the public.
ATTACH;FMTTYPE=image/jpeg:https://www.choosehowyoumove.co.uk/wp-content/up
 loads/2019/11/56352742_664278790694355_4023287494719045632_n.jpg
CATEGORIES:Cycling
END:VEVENT
BEGIN:VTIMEZONE
TZID:Europe/London
X-LIC-LOCATION:Europe/London
BEGIN:STANDARD
DTSTART:20191027T010000
TZOFFSETFROM:+0100
TZOFFSETTO:+0000
TZNAME:GMT
END:STANDARD
END:VTIMEZONE
END:VCALENDAR