BEGIN:VCALENDAR
VERSION:2.0
PRODID:-//wp-events-plugin.com//7.2.3.1//EN
TZID:Europe/London
X-WR-TIMEZONE:Europe/London
BEGIN:VEVENT
UID:4@choosehowyoumove.co.uk
DTSTART;TZID=Europe/London:20200127T110000
DTEND;TZID=Europe/London:20200127T140000
DTSTAMP:20200123T111812Z
URL:https://www.choosehowyoumove.co.uk/events/cycle-surgery-the-glenfield-
 hospital/
SUMMARY:Cycle Surgery @ The Glenfield Hospital
DESCRIPTION:Find Dr Bike by in the motorbike parking bay outside the main 
 entrance for free cycle safety checks. For UHL and Leicestershire Partner
 ship NHS Trust staff\, but open to members of the public.
CATEGORIES:Cycling
END:VEVENT
BEGIN:VTIMEZONE
TZID:Europe/London
X-LIC-LOCATION:Europe/London
BEGIN:STANDARD
DTSTART:20191027T010000
TZOFFSETFROM:+0100
TZOFFSETTO:+0000
TZNAME:GMT
END:STANDARD
END:VTIMEZONE
END:VCALENDAR