BEGIN:VCALENDAR
VERSION:2.0
PRODID:-//wp-events-plugin.com//7.2.3.1//EN
TZID:Europe/London
X-WR-TIMEZONE:Europe/London
BEGIN:VEVENT
UID:411@choosehowyoumove.co.uk
DTSTART;TZID=Europe/London:20251113T180000
DTEND;TZID=Europe/London:20251113T200000
DTSTAMP:20251111T144654Z
URL:https://www.choosehowyoumove.co.uk/events/cycling-walking-wheeling-for
 um-2/
SUMMARY:Cycling\, Walking & Wheeling Forum
DESCRIPTION:Active travel has never had a higher profile\, nationally and l
 ocally. We all want to maximise the well-documented health\, economic\, an
 d climate benefits of encouraging the switch from single occupancy car jou
 rneys to more active and sustainable modes of travel.\nAs a council\, supp
 orted by Active Travel England\, we are reaching out to our communities an
 d stakeholders in the world of active travel. We want to hear from the man
 y individuals\, advocacy groups\, residents\, and professionals with a kee
 n interest in Active Travel to ensure the schemes we introduce are effecti
 ve and useful.\nWe’re eager to hear your experiences and suggestions\, w
 hich is why the Forum has been set up to allow a two-way flow of informati
 on. While this isn’t a formal consultation process\, there will be an op
 portunity to hear updates from us about our:\n\n	Active and sustainable tr
 avel agenda\n	New and existing schemes\n	Choose How You Move behaviour cha
 nge programme\n	Cycling and Walking Strategy\; and\n	Local Cycling and Wal
 king Infrastructure Plans.\n\nPlease note\, the above agenda may change.\n
 Final agenda TBC. 
END:VEVENT
BEGIN:VTIMEZONE
TZID:Europe/London
X-LIC-LOCATION:Europe/London
BEGIN:STANDARD
DTSTART:20251026T010000
TZOFFSETFROM:+0100
TZOFFSETTO:+0000
TZNAME:GMT
END:STANDARD
END:VTIMEZONE
END:VCALENDAR