BEGIN:VCALENDAR
VERSION:2.0
PRODID:-//wp-events-plugin.com//7.2.3.1//EN
TZID:Europe/London
X-WR-TIMEZONE:Europe/London
BEGIN:VEVENT
UID:357@choosehowyoumove.co.uk
DTSTART;TZID=Europe/London:20250730T110000
DTEND;TZID=Europe/London:20250730T130000
DTSTAMP:20250714T120612Z
URL:https://www.choosehowyoumove.co.uk/events/dino-t-reks-at-everards-mead
 ows/
SUMMARY:Dino T-reks at Everards Meadows
DESCRIPTION:Enjoy summer with a ROAR and join us for our active travel summ
 er trails! Children from across the county have designed active travelling
  dinosaurs for you to find this summer. We will be at Everards Meadows to 
 celebrate the summer T-reks. \nFind all the dinosaurs and report back to 
 the Choose How You Move team to grab some goodies!
END:VEVENT
BEGIN:VTIMEZONE
TZID:Europe/London
X-LIC-LOCATION:Europe/London
BEGIN:DAYLIGHT
DTSTART:20250330T020000
TZOFFSETFROM:+0000
TZOFFSETTO:+0100
TZNAME:BST
END:DAYLIGHT
END:VTIMEZONE
END:VCALENDAR