BEGIN:VCALENDAR
VERSION:2.0
PRODID:-//wp-events-plugin.com//7.2.3.1//EN
TZID:Europe/London
X-WR-TIMEZONE:Europe/London
BEGIN:VEVENT
UID:177@choosehowyoumove.co.uk
DTSTART;TZID=Europe/London:20220321T100000
DTEND;TZID=Europe/London:20220321T113000
DTSTAMP:20220307T143257Z
URL:https://www.choosehowyoumove.co.uk/events/energy-savings-trust-sme-ev-
 essentials-training-courses-2/
SUMMARY:Energy Savings Trust - SME EV essentials training courses
DESCRIPTION:Building on the COP26 SME Climate hub commitments\, the Energy 
 Saving Trust want to continue to build SMEs awareness on decarbonising the
 ir fleets (and also staff commute) to help support them on their pathway t
 o Zero.\nThe training course is a 90-minute online session to learn about 
 electric vehicles\, how they can save money and provide operational benefi
 ts. And afterwards\, an opportunity to test-drive several models of electr
 ic vans and cars will be at Lower Bond Street car park\,  LE10 1QU.\nYou 
 can register your interest to the event and you can get in touch if you're
  interested in hosting an event in your area. Email at: SMEtraining@est.or
 g.uk  
END:VEVENT
BEGIN:VTIMEZONE
TZID:Europe/London
X-LIC-LOCATION:Europe/London
BEGIN:STANDARD
DTSTART:20211031T010000
TZOFFSETFROM:+0100
TZOFFSETTO:+0000
TZNAME:GMT
END:STANDARD
END:VTIMEZONE
END:VCALENDAR