BEGIN:VCALENDAR
VERSION:2.0
PRODID:-//wp-events-plugin.com//7.2.3.1//EN
TZID:Europe/London
X-WR-TIMEZONE:Europe/London
BEGIN:VEVENT
UID:199@choosehowyoumove.co.uk
DTSTART;TZID=Europe/London:20220825T180000
DTEND;TZID=Europe/London:20220825T190000
DTSTAMP:20220811T151735Z
URL:https://www.choosehowyoumove.co.uk/events/evening-walk-aylestone-meado
 ws-woodland-grassland-walk/
SUMMARY:Evening Walk: Aylestone Meadows\, Woodland & Grassland Walk
DESCRIPTION:Make the most of summer evenings with a stroll through lovely A
 ylestone Meadows. This time we take in the park's woodland and grassland a
 reas. This is a short social walk\, led by one of our volunteers covering 
 a distance of around 2 miles at a steady pace. Due to the terrain (soft un
 even paths and some steps) this is not an accessible route so is unsuitabl
 e for wheelchairs and buggies. Please wear appropriate footwear. Please be
  aware there are no toilet facilities at this location.
CATEGORIES:Walking
END:VEVENT
BEGIN:VTIMEZONE
TZID:Europe/London
X-LIC-LOCATION:Europe/London
BEGIN:DAYLIGHT
DTSTART:20220327T020000
TZOFFSETFROM:+0000
TZOFFSETTO:+0100
TZNAME:BST
END:DAYLIGHT
END:VTIMEZONE
END:VCALENDAR