BEGIN:VCALENDAR
VERSION:2.0
PRODID:-//wp-events-plugin.com//7.2.3.1//EN
TZID:Europe/London
X-WR-TIMEZONE:Europe/London
BEGIN:VEVENT
UID:433@choosehowyoumove.co.uk
DTSTART;TZID=Europe/London:20260317T183000
DTEND;TZID=Europe/London:20260317T200000
DTSTAMP:20260312T161324Z
URL:https://www.choosehowyoumove.co.uk/events/foxconnect-awareness-electri
 c-car-club/
SUMMARY:FoxConnect Awareness - Electric Car Club
DESCRIPTION:The Fox Connect Team will be attending the Electric Car Club me
 eting to give residents the opportunity to:\n• Find out more about the n
 ew FoxConnect bookable bus service \n• Talk to us about how the service 
 will work\n• Find out how to download the app on their phone to book jou
 rneys or receive guidance on making bookings by telephone\n&nbsp\;
CATEGORIES:Public Transport
END:VEVENT
BEGIN:VTIMEZONE
TZID:Europe/London
X-LIC-LOCATION:Europe/London
BEGIN:STANDARD
DTSTART:20251026T010000
TZOFFSETFROM:+0100
TZOFFSETTO:+0000
TZNAME:GMT
END:STANDARD
END:VTIMEZONE
END:VCALENDAR