BEGIN:VCALENDAR
VERSION:2.0
PRODID:-//wp-events-plugin.com//7.2.3.1//EN
TZID:Europe/London
X-WR-TIMEZONE:Europe/London
BEGIN:VEVENT
UID:412@choosehowyoumove.co.uk
DTSTART;TZID=Europe/London:20251204T101500
DTEND;TZID=Europe/London:20251204T123000
DTSTAMP:20251119T180600Z
URL:https://www.choosehowyoumove.co.uk/events/foxconnect-drop-in-first-thu
 rsday-coffee-morning/
SUMMARY:FoxConnect Drop in - First Thursday Coffee Morning
DESCRIPTION:The Fox Connect Team will be attending the First Thursday Coffe
 e Morning to give residents the opportunity to:\n• Find out more about t
 he new FoxConnect bookable bus service which launched on 14 July 2025\n•
  Talk to us about how the service will work\n• Find out how to download 
 the app on their phone to book journeys or receive guidance on making book
 ings by telephone\n\n
CATEGORIES:Public Transport
END:VEVENT
BEGIN:VTIMEZONE
TZID:Europe/London
X-LIC-LOCATION:Europe/London
BEGIN:STANDARD
DTSTART:20251026T010000
TZOFFSETFROM:+0100
TZOFFSETTO:+0000
TZNAME:GMT
END:STANDARD
END:VTIMEZONE
END:VCALENDAR