BEGIN:VCALENDAR
VERSION:2.0
PRODID:-//wp-events-plugin.com//7.2.3.1//EN
TZID:Europe/London
X-WR-TIMEZONE:Europe/London
BEGIN:VEVENT
UID:342@choosehowyoumove.co.uk
DTSTART;TZID=Europe/London:20250723T120000
DTEND;TZID=Europe/London:20250723T140000
DTSTAMP:20250703T081054Z
URL:https://www.choosehowyoumove.co.uk/events/foxconnect-drop-in-session-1
 9/
SUMMARY:FoxConnect Drop in Session
DESCRIPTION:\n\n\n	The Fox Connect Team will be hosting a drop in session w
 here local residents can have the opportunity to\;                
                                                  
  \n\n\n	Find out more about the new FoxConnect bookable bus service which
  will be launching on 14 July 2025\n• Talk to us about how the service w
 ill work\n• Find out how to download the app on their phone to book jour
 neys or receive guidance on making bookings by telephone\n\n\n \n
END:VEVENT
BEGIN:VTIMEZONE
TZID:Europe/London
X-LIC-LOCATION:Europe/London
BEGIN:DAYLIGHT
DTSTART:20250330T020000
TZOFFSETFROM:+0000
TZOFFSETTO:+0100
TZNAME:BST
END:DAYLIGHT
END:VTIMEZONE
END:VCALENDAR