BEGIN:VCALENDAR
VERSION:2.0
PRODID:-//wp-events-plugin.com//7.2.3.1//EN
TZID:Europe/London
X-WR-TIMEZONE:Europe/London
BEGIN:VEVENT
UID:343@choosehowyoumove.co.uk
DTSTART;TZID=Europe/London:20250725T103000
DTEND;TZID=Europe/London:20250725T120000
DTSTAMP:20250618T132204Z
URL:https://www.choosehowyoumove.co.uk/events/foxconnect-drop-in-session-g
 reat-glen-parish-offices/
SUMMARY:FoxConnect Drop in Session - Great Glen Parish Offices
DESCRIPTION:\n\nThe FoxConnect Team will be hosting a drop-in session to gi
 ve local residents the opportunity to\; • Find out more about the FoxCon
 nect bookable bus service\n• Talk to us about how the service works\n•
  Receive demonstrations on how to book journeys using the App or guidance 
 on making bookings by telephone\n \n\n
END:VEVENT
BEGIN:VTIMEZONE
TZID:Europe/London
X-LIC-LOCATION:Europe/London
BEGIN:DAYLIGHT
DTSTART:20250330T020000
TZOFFSETFROM:+0000
TZOFFSETTO:+0100
TZNAME:BST
END:DAYLIGHT
END:VTIMEZONE
END:VCALENDAR