BEGIN:VCALENDAR
VERSION:2.0
PRODID:-//wp-events-plugin.com//7.2.3.1//EN
TZID:Europe/London
X-WR-TIMEZONE:Europe/London
BEGIN:VEVENT
UID:345@choosehowyoumove.co.uk
DTSTART;TZID=Europe/London:20250811T143000
DTEND;TZID=Europe/London:20250811T160000
DTSTAMP:20250618T133356Z
URL:https://www.choosehowyoumove.co.uk/events/foxconnect-drop-in-session-v
 illage-teas-medbourne-village-hall/
SUMMARY:FoxConnect Drop In Session - Village Teas Medbourne Village Hall
DESCRIPTION:\n\n\nThe FoxConnect Team will be hosting a drop-in session to 
 give local residents the opportunity to\;\n• Find out more about the Fox
 Connect bookable bus service\n• Talk to us about how the service works\n
 • Receive demonstrations on how to book journeys using the App or guidan
 ce on making bookings by telephone\n \n\n\n
END:VEVENT
BEGIN:VTIMEZONE
TZID:Europe/London
X-LIC-LOCATION:Europe/London
BEGIN:DAYLIGHT
DTSTART:20250330T020000
TZOFFSETFROM:+0000
TZOFFSETTO:+0100
TZNAME:BST
END:DAYLIGHT
END:VTIMEZONE
END:VCALENDAR