BEGIN:VCALENDAR
VERSION:2.0
PRODID:-//wp-events-plugin.com//7.2.3.1//EN
TZID:Europe/London
X-WR-TIMEZONE:Europe/London
BEGIN:VEVENT
UID:413@choosehowyoumove.co.uk
DTSTART;TZID=Europe/London:20251208T120000
DTEND;TZID=Europe/London:20251208T133000
DTSTAMP:20251128T123902Z
URL:https://www.choosehowyoumove.co.uk/events/foxconnect-drop-in-the-welco
 me-kitchen/
SUMMARY:FoxConnect Drop in - The Welcome Kitchen
DESCRIPTION:The Fox Connect Team will be visiting The Welcome Kitchen to gi
 ve residents the opportunity to:\n• Find out more about the new FoxConne
 ct bookable bus service which launched on 14 July 2025\n• Talk to us abo
 ut how the service will work\n• Find out how to download the app on thei
 r phone to book journeys or receive guidance on making bookings by telepho
 ne
CATEGORIES:Public Transport
END:VEVENT
BEGIN:VTIMEZONE
TZID:Europe/London
X-LIC-LOCATION:Europe/London
BEGIN:STANDARD
DTSTART:20251026T010000
TZOFFSETFROM:+0100
TZOFFSETTO:+0000
TZNAME:GMT
END:STANDARD
END:VTIMEZONE
END:VCALENDAR