BEGIN:VCALENDAR
VERSION:2.0
PRODID:-//wp-events-plugin.com//7.2.3.1//EN
TZID:Europe/London
X-WR-TIMEZONE:Europe/London
BEGIN:VEVENT
UID:344@choosehowyoumove.co.uk
DTSTART;TZID=Europe/London:20250806T100000
DTEND;TZID=Europe/London:20250806T120000
DTSTAMP:20250618T132942Z
URL:https://www.choosehowyoumove.co.uk/events/foxconnect-information-sessi
 on-armed-forces-coffee-morning/
SUMMARY:FoxConnect Information Session - Armed Forces Coffee Morning
DESCRIPTION:\n\n\nThe FoxConnect Team will be hosting an information sessio
 n to give local residents the opportunity to\; • Learn about the changes
  to the FoxConnect journey booking App and booking line telephone number\n
 • Talk to us about how the bookable bus service works\n• Receive demon
 strations on how to book journeys using the new App or guidance on making 
 bookings by telephone\n \n\n\n
END:VEVENT
BEGIN:VTIMEZONE
TZID:Europe/London
X-LIC-LOCATION:Europe/London
BEGIN:DAYLIGHT
DTSTART:20250330T020000
TZOFFSETFROM:+0000
TZOFFSETTO:+0100
TZNAME:BST
END:DAYLIGHT
END:VTIMEZONE
END:VCALENDAR