BEGIN:VCALENDAR
VERSION:2.0
PRODID:-//wp-events-plugin.com//7.2.3.1//EN
TZID:Europe/London
X-WR-TIMEZONE:Europe/London
BEGIN:VEVENT
UID:341@choosehowyoumove.co.uk
DTSTART;TZID=Europe/London:20250710T133000
DTEND;TZID=Europe/London:20250710T153000
DTSTAMP:20250703T080427Z
URL:https://www.choosehowyoumove.co.uk/events/foxconnect-information-sessi
 on-hosted-by-wana-witherley-atterton-neighbours-association/
SUMMARY:FoxConnect Information Session – hosted by WANA (Witherley & Atte
 rton Neighbours Association)
DESCRIPTION:\n\nThe Fox Connect Team will be hosting a drop in session wher
 e local residents can have the opportunity to:\n\n	 Find out more about t
 he new FoxConnect bookable bus service which will be launching on 14 July 
 2025\n•  Talk to us about how the service will work\n•  Find out how
  to download the app on their phone to book journeys or receive guidance o
 n making bookings by telephone\n\n\n \n
END:VEVENT
BEGIN:VTIMEZONE
TZID:Europe/London
X-LIC-LOCATION:Europe/London
BEGIN:DAYLIGHT
DTSTART:20250330T020000
TZOFFSETFROM:+0000
TZOFFSETTO:+0100
TZNAME:BST
END:DAYLIGHT
END:VTIMEZONE
END:VCALENDAR