BEGIN:VCALENDAR
VERSION:2.0
PRODID:-//wp-events-plugin.com//7.2.3.1//EN
TZID:Europe/London
X-WR-TIMEZONE:Europe/London
BEGIN:VEVENT
UID:366@choosehowyoumove.co.uk
DTSTART;TZID=Europe/London:20250707T140000
DTEND;TZID=Europe/London:20250707T143000
DTSTAMP:20250702T121053Z
URL:https://www.choosehowyoumove.co.uk/events/foxconnect-session-sapcote-a
 fternoon-tea/
SUMMARY:FoxConnect Session - Sapcote Afternoon Tea
DESCRIPTION:\n\nThe FoxConnect Team will be attending the afternoon tea to 
 give local residents the opportunity to\; • Learn about the changes to t
 he FoxConnect journey booking App and booking line telephone number\n• T
 alk to us about how the bookable bus service works\n• Receive demonstrat
 ions on how to book journeys using the new App or guidance on making booki
 ngs by telephone\n\n
END:VEVENT
BEGIN:VTIMEZONE
TZID:Europe/London
X-LIC-LOCATION:Europe/London
BEGIN:DAYLIGHT
DTSTART:20250330T020000
TZOFFSETFROM:+0000
TZOFFSETTO:+0100
TZNAME:BST
END:DAYLIGHT
END:VTIMEZONE
END:VCALENDAR