BEGIN:VCALENDAR
VERSION:2.0
PRODID:-//wp-events-plugin.com//7.2.3.1//EN
TZID:Europe/London
X-WR-TIMEZONE:Europe/London
BEGIN:VEVENT
UID:362@choosehowyoumove.co.uk
DTSTART;TZID=Europe/London:20250630T100000
DTEND;TZID=Europe/London:20250630T113000
DTSTAMP:20250625T203955Z
URL:https://www.choosehowyoumove.co.uk/events/foxconnect-session-twycross-
 coffee-morning/
SUMMARY:FoxConnect Session - Twycross Coffee Morning
DESCRIPTION:The Fox Connect Team will be hosting a drop in session where lo
 cal residents can have the opportunity to:\n• Find out more about the ne
 w FoxConnect bookable bus service which will be launching on 14 July 2025\
 n• Talk to us about how the service will work\n• Find out how to downl
 oad the app on their phone to book journeys or receive guidance on making 
 bookings by telephone\n 
CATEGORIES:Public Transport
END:VEVENT
BEGIN:VTIMEZONE
TZID:Europe/London
X-LIC-LOCATION:Europe/London
BEGIN:DAYLIGHT
DTSTART:20250330T020000
TZOFFSETFROM:+0000
TZOFFSETTO:+0100
TZNAME:BST
END:DAYLIGHT
END:VTIMEZONE
END:VCALENDAR