BEGIN:VCALENDAR
VERSION:2.0
PRODID:-//wp-events-plugin.com//7.2.3.1//EN
TZID:Europe/London
X-WR-TIMEZONE:Europe/London
BEGIN:VEVENT
UID:410@choosehowyoumove.co.uk
DTSTART;TZID=Europe/London:20251213T090000
DTEND;TZID=Europe/London:20251213T130000
DTSTAMP:20251106T210120Z
URL:https://www.choosehowyoumove.co.uk/events/foxconnect-stall-brooksby-ca
 mpus-open-day/
SUMMARY:FoxConnect stall - Brooksby Campus Open Day
DESCRIPTION:The FoxConnect team will be in Brooksby Melton College to give 
 prospective students and residents the opportunity to\;\n• Find out abou
 t the FoxConnect bookable bus service\n• Chat with the team and ask ques
 tions\n• See how to book a journey using the app or get guidance on phon
 e bookings\nThe closest FoxConnect bus stop is a short walk away from Broo
 ksby College Campus.\n&nbsp\;\nTell Us About How You Travel in Leicestersh
 ire \nLeicestershire is running a local travel survey to better understan
 d how people get around in their everyday lives. How you take your journey
 s\, whether you drive\, walk\, wheel\, cycle\, use public transport\, or r
 ely on lifts from others – your experiences matter. \nBy taking part\, 
 you’ll help us: \n\n	Learn how\, why\, when and where people travel acr
 oss Leicestershire \n\n\n	Understand what makes travel easier or more dif
 ficult \n\n\n	Identify barriers that prevent people from accessing essen
 tial services like healthcare\, education\, shops and leisure activities
 \, as well as work places. \n\nWhy your input matters: \nEveryone’s t
 ravel experience is different – and that’s why your input is so valu
 able. No matter your mode of transport – we want to understand what work
 s well and what could be better for you. \nWe’re also keen to learn abo
 ut any challenges you face\; such access to services\, and work places. Y
 our feedback will help us shape future plans that support more inclusive
  travel across Leicestershire. \nTaking part is simple\, and your informa
 tion will be kept confidential. Every response helps us make better decisi
 ons for our communities. \nHow to get involved: \nClick the below links 
 to be taken to the Big Travel Survey page: \nhttps://www.leicestershire.g
 ov.uk/news/big-travel-survey-launches-in-leicestershire \nBig travel surv
 ey – Link to Big Travel Survey \nSocial Pinpoint  - Link to Social
  Pinpoint exercise \n  \nYour feedback is invaluable and helps to sha
 pe important future decisions. \n&nbsp\;
CATEGORIES:Cycling,Family,Public Transport,Walking
END:VEVENT
BEGIN:VTIMEZONE
TZID:Europe/London
X-LIC-LOCATION:Europe/London
BEGIN:STANDARD
DTSTART:20251026T010000
TZOFFSETFROM:+0100
TZOFFSETTO:+0000
TZNAME:GMT
END:STANDARD
END:VTIMEZONE
END:VCALENDAR