BEGIN:VCALENDAR
VERSION:2.0
PRODID:-//wp-events-plugin.com//7.2.3.1//EN
TZID:Europe/London
X-WR-TIMEZONE:Europe/London
BEGIN:VEVENT
UID:353@choosehowyoumove.co.uk
DTSTART;TZID=Europe/London:20250723T190000
DTEND;TZID=Europe/London:20250723T200000
DTSTAMP:20250703T081000Z
URL:https://www.choosehowyoumove.co.uk/events/foxconnect-talk-shackerstone
 -parish-meeting/
SUMMARY:FoxConnect Talk - Shackerstone Parish Meeting
DESCRIPTION:\nThe Fox Connect Team will be attending the parish council mee
 ting to give residents the opportunity to:                    
                                                  
 \n\n	Find out more about the new FoxConnect bookable bus service which wil
 l be launching on 14 July 2025\n• Talk to us about how the service will 
 work\n• Find out how to download the app on their phone to book journeys
  or receive guidance on making bookings by telephone\n\n
END:VEVENT
BEGIN:VTIMEZONE
TZID:Europe/London
X-LIC-LOCATION:Europe/London
BEGIN:DAYLIGHT
DTSTART:20250330T020000
TZOFFSETFROM:+0000
TZOFFSETTO:+0100
TZNAME:BST
END:DAYLIGHT
END:VTIMEZONE
END:VCALENDAR