BEGIN:VCALENDAR
VERSION:2.0
PRODID:-//wp-events-plugin.com//7.2.3.1//EN
TZID:Europe/London
X-WR-TIMEZONE:Europe/London
BEGIN:VEVENT
UID:202@choosehowyoumove.co.uk
DTSTART;TZID=Europe/London:20220919T100000
DTEND;TZID=Europe/London:20220919T120000
DTSTAMP:20220826T145859Z
URL:https://www.choosehowyoumove.co.uk/events/group-walk-a-day-at-leiceste
 r-races-on-victoria-park/
SUMMARY:Group Walk: A day at Leicester Races on Victoria Park
DESCRIPTION:Join us as we walk the footsteps of former race goers to visit 
 locations associated with the historic Leicester horse races! We head to V
 ictoria Park to walk the former race course and pause for information alon
 g the way\, to discover the history of this popular social event. This wal
 k is led by a volunteer with an interest in this subject. The walk finishe
 s back Leicester Museum and Art Gallery on New Walk\, where toilets are av
 ailable.
CATEGORIES:Walking
END:VEVENT
BEGIN:VTIMEZONE
TZID:Europe/London
X-LIC-LOCATION:Europe/London
BEGIN:DAYLIGHT
DTSTART:20220327T020000
TZOFFSETFROM:+0000
TZOFFSETTO:+0100
TZNAME:BST
END:DAYLIGHT
END:VTIMEZONE
END:VCALENDAR