BEGIN:VCALENDAR
VERSION:2.0
PRODID:-//wp-events-plugin.com//7.2.3.1//EN
TZID:Europe/London
X-WR-TIMEZONE:Europe/London
BEGIN:VEVENT
UID:216@choosehowyoumove.co.uk
DTSTART;TZID=Europe/London:20221126T110000
DTEND;TZID=Europe/London:20221126T123000
DTSTAMP:20221107T164649Z
URL:https://www.choosehowyoumove.co.uk/events/group-walk-a-scenic-stroll-s
 outh-from-the-city-2/
SUMMARY:Group Walk: A Scenic Stroll south from the city
DESCRIPTION:Enjoy the views of Castle Gardens\, the waterway and iconic lan
 dmarks including Leicester's Statue of Liberty as we take a scenic stroll 
 south from the city centre. We head out along the canal and return via the
  Great Central Way. This walk of 2.6 miles will be led by one of our Walk 
 Volunteers\,  pausing for a little information along the way.  This is an 
 accessible route on firm paths.
CATEGORIES:Family,Walking
END:VEVENT
BEGIN:VTIMEZONE
TZID:Europe/London
X-LIC-LOCATION:Europe/London
BEGIN:STANDARD
DTSTART:20221030T010000
TZOFFSETFROM:+0100
TZOFFSETTO:+0000
TZNAME:GMT
END:STANDARD
END:VTIMEZONE
END:VCALENDAR