BEGIN:VCALENDAR
VERSION:2.0
PRODID:-//wp-events-plugin.com//7.2.3.1//EN
TZID:Europe/London
X-WR-TIMEZONE:Europe/London
BEGIN:VEVENT
UID:223@choosehowyoumove.co.uk
DTSTART;TZID=Europe/London:20230202T110000
DTEND;TZID=Europe/London:20230202T123000
DTSTAMP:20221230T152038Z
URL:https://www.choosehowyoumove.co.uk/events/group-walk-a-short-factory-t
 rail-in-the-city-centre/
SUMMARY:Group Walk - A short factory trail in the city centre
DESCRIPTION:This walk passes some of the former industrial buildings in Lei
 cester. We've picked out just a few to get a flavour of the industries whi
 ch provided employment and brought wealth to Leicester in the 19th and 20t
 h centuries. We’ll pause for a little light information along the way. 
  At 1.6 miles\, this is a shorter version of the walk previously presented
  in 2021 entitled Factory Trail: City Centre West.
CATEGORIES:Family,Walking
END:VEVENT
BEGIN:VTIMEZONE
TZID:Europe/London
X-LIC-LOCATION:Europe/London
BEGIN:STANDARD
DTSTART:20221030T010000
TZOFFSETFROM:+0100
TZOFFSETTO:+0000
TZNAME:GMT
END:STANDARD
END:VTIMEZONE
END:VCALENDAR