BEGIN:VCALENDAR
VERSION:2.0
PRODID:-//wp-events-plugin.com//7.2.3.1//EN
TZID:Europe/London
X-WR-TIMEZONE:Europe/London
BEGIN:VEVENT
UID:180@choosehowyoumove.co.uk
DTSTART;TZID=Europe/London:20220421T110000
DTEND;TZID=Europe/London:20220421T120000
DTSTAMP:20220407T111224Z
URL:https://www.choosehowyoumove.co.uk/events/group-walk-around-evington-v
 illage/
SUMMARY:Group Walk: Around Evington Village
DESCRIPTION:Join us for a stroll around Evington village and discover some 
 historic buildings along the way. We passing Evington House set within the
  lovely park grounds\, Evington Chapel and the medieval church of St Denys
 . 
CATEGORIES:Walking
END:VEVENT
BEGIN:VTIMEZONE
TZID:Europe/London
X-LIC-LOCATION:Europe/London
BEGIN:DAYLIGHT
DTSTART:20220327T020000
TZOFFSETFROM:+0000
TZOFFSETTO:+0100
TZNAME:BST
END:DAYLIGHT
END:VTIMEZONE
END:VCALENDAR