BEGIN:VCALENDAR
VERSION:2.0
PRODID:-//wp-events-plugin.com//7.2.3.1//EN
TZID:Europe/London
X-WR-TIMEZONE:Europe/London
BEGIN:VEVENT
UID:198@choosehowyoumove.co.uk
DTSTART;TZID=Europe/London:20220820T110000
DTEND;TZID=Europe/London:20220820T121500
DTSTAMP:20220811T141932Z
URL:https://www.choosehowyoumove.co.uk/events/group-walk-castle-hill-count
 ry-park-castle-quarter/
SUMMARY:Group Walk: Castle Hill Country Park - Castle Quarter
DESCRIPTION:Relax with nature and explore Castle Hill Country Park\, a litt
 le-known green space on the edge of the City. We visit the Castle Quarter 
 of the park and take a steady walk through a mix of grassland and wooded a
 reas. The paths in Castle Hill Country Park are soft and the terrain is un
 even - please wear appropriate footwear. Due to the terrain\, unfortunatel
 y this walk is unsuitable for wheelchairs and buggies.
CATEGORIES:Walking
END:VEVENT
BEGIN:VTIMEZONE
TZID:Europe/London
X-LIC-LOCATION:Europe/London
BEGIN:DAYLIGHT
DTSTART:20220327T020000
TZOFFSETFROM:+0000
TZOFFSETTO:+0100
TZNAME:BST
END:DAYLIGHT
END:VTIMEZONE
END:VCALENDAR