BEGIN:VCALENDAR
VERSION:2.0
PRODID:-//wp-events-plugin.com//7.2.3.1//EN
TZID:Europe/London
X-WR-TIMEZONE:Europe/London
BEGIN:VEVENT
UID:236@choosehowyoumove.co.uk
DTSTART;TZID=Europe/London:20230225T110000
DTEND;TZID=Europe/London:20230225T123000
DTSTAMP:20230127T135518Z
URL:https://www.choosehowyoumove.co.uk/events/group-walk-city-centre-to-th
 e-rally-fosse-rec-ground-2/
SUMMARY:Group Walk - City centre to The Rally & Fosse Rec Ground
DESCRIPTION:Join us for a walk of around 2.5 miles led at a steady pace. We
  take in views of the canal and old Friars Mill and pass through the attra
 ctive green spaces of The Rally and Fosse Recreation Ground\, via resident
 ial streets. We pause in The Rally to reveal a little about its railway hi
 story before returning to the city centre.  
CATEGORIES:Family,Walking
END:VEVENT
BEGIN:VTIMEZONE
TZID:Europe/London
X-LIC-LOCATION:Europe/London
BEGIN:STANDARD
DTSTART:20221030T010000
TZOFFSETFROM:+0100
TZOFFSETTO:+0000
TZNAME:GMT
END:STANDARD
END:VTIMEZONE
END:VCALENDAR