BEGIN:VCALENDAR
VERSION:2.0
PRODID:-//wp-events-plugin.com//7.2.3.1//EN
TZID:Europe/London
X-WR-TIMEZONE:Europe/London
BEGIN:VEVENT
UID:221@choosehowyoumove.co.uk
DTSTART;TZID=Europe/London:20230121T110000
DTEND;TZID=Europe/London:20230121T121500
DTSTAMP:20230120T202213Z
URL:https://www.choosehowyoumove.co.uk/events/group-walk-explore-urban-ayl
 estone-st-marys-open-space/
SUMMARY:CANCELLED: Group walk - Explore urban Aylestone & St Mary's Open Sp
 ace
DESCRIPTION:A walk from Aylestone Leisure Centre passing interesting buildi
 ngs on Aylestone's urban streets and pausing for a little light informatio
 n along the way. Places of interest include a Victorian school and library
  and the National Gas Museum. We return through St Mary's Open Space\, a r
 elatively new public green space in the city. At just under 1.5 miles this
  is one of our short walks\, led at a steady pace.
CATEGORIES:Walking
END:VEVENT
BEGIN:VTIMEZONE
TZID:Europe/London
X-LIC-LOCATION:Europe/London
BEGIN:STANDARD
DTSTART:20221030T010000
TZOFFSETFROM:+0100
TZOFFSETTO:+0000
TZNAME:GMT
END:STANDARD
END:VTIMEZONE
END:VCALENDAR