BEGIN:VCALENDAR
VERSION:2.0
PRODID:-//wp-events-plugin.com//7.2.3.1//EN
TZID:Europe/London
X-WR-TIMEZONE:Europe/London
BEGIN:VEVENT
UID:38@choosehowyoumove.co.uk
DTSTART;TZID=Europe/London:20200919T140000
DTEND;TZID=Europe/London:20200919T160000
DTSTAMP:20200917T170023Z
URL:https://www.choosehowyoumove.co.uk/events/group-walk-glenfield-tunnel-
 over-the-top-3/
SUMMARY:Group Walk - 'Glenfield Tunnel - over the top'
DESCRIPTION:Group Walk: Glenfield Tunnel\, Over the Top\nOn Saturday 19 Sep
 tember\, 2pm \nUp to 2 hours\, medium pace \nMeeting location will be co
 nfirmed on booking. \n\nWe are running this walk on two different dates t
 o allow opportunities to more people.  Please attend on the date you have
  booked for - places will not be interchangeable between the walks due to 
 the need to limit participant numbers. Thank you.\nBooking opens Saturday 
 29 August at 9am. \nParticipant places: 5. \nTucked away on West Leices
 ter's modern residential roads is evidence of Leicester's first steam rail
 way. Join us as we take a circuitous route through Glenfield\, tracing som
 e of the surface-level ventilation shafts which mark the line of the histo
 ric Glenfield Tunnel\, then take a footpath to the tunnel entrance (now cl
 osed **). Our walk leader will talk briefly about the Leicester to Swannin
 gton Railway\, from its beginnings to its closure\, and about the Glenfiel
 d Tunnel.  This walk is repeated on Saturday 19 September - which needs t
 o be booked separately.\n**The Glenfield Tunnel itself will not be open fo
 r this walk.\nOur groups are smaller than before so booking is essential
  – see ‘how to book’ below. Please do not turn up at walks if you h
 ave not booked – we regret you will be turned away. \nWeather\nRemember
  to bring a bottle of water and to dress appropriately for the weather.\nG
 roup size\nGroups will be smaller than before – a maximum of 5 participa
 nts with one walk leader. This complies with current government guidance t
 hat no more than 6 people from different households can meet outdoors in a
  public space\, and helps keep groups manageable. To allow opportunities t
 o others\, a maximum of 2 people from the same household/ support bubble m
 ay attend. We are sorry that we cannot accommodate more people at this tim
 e. Please follow instructions for booking places and also observe the guid
 ance below with regards to Covid-19. \nCovid-19 and group walks\n\n	Pleas
 e do not attend a walk if you or someone in your household/support bubble 
 has symptoms of Covid-19. Instead\, please stay home and self-isolate. See
  the latest information on the NHS website about self-isolating and obtain
 ing a test.\n	If you develop symptoms within 14 days of attending a group 
 walk\, please let us know so that we can contact others.\n	During walks\, 
 we kindly ask walkers to maintain the 2m social distancing from each oth
 er and members of the public (or at least 1m if you are wearing a face mas
 k).\n	Take hygiene precautions when you are outside (you may wish to carry
  your own hand sanitizer) and wash your hands as soon as you are back indo
 ors.\n\nSelf-guided routes\nIf you have been unable to book onto one of ou
 r group walks\, or you prefer to explore with your family or friends\, sel
 f-guided routes are available to download from our routes page or via th
 e Go Jauntly smartphone app. Enjoy exploring Leicester this summer.
CATEGORIES:Walking
END:VEVENT
BEGIN:VTIMEZONE
TZID:Europe/London
X-LIC-LOCATION:Europe/London
BEGIN:DAYLIGHT
DTSTART:20200329T020000
TZOFFSETFROM:+0000
TZOFFSETTO:+0100
TZNAME:BST
END:DAYLIGHT
END:VTIMEZONE
END:VCALENDAR