BEGIN:VCALENDAR
VERSION:2.0
PRODID:-//wp-events-plugin.com//7.2.3.1//EN
TZID:Europe/London
X-WR-TIMEZONE:Europe/London
BEGIN:VEVENT
UID:148@choosehowyoumove.co.uk
DTSTART;TZID=Europe/London:20211109T110000
DTEND;TZID=Europe/London:20211109T123000
DTSTAMP:20211007T170928Z
URL:https://www.choosehowyoumove.co.uk/events/group-walk-ladies-of-leicest
 er/
SUMMARY:Group Walk: Ladies of Leicester
DESCRIPTION:This route visits locations associated with some of Leicester's
  notable women of the 18th\, 19th and 20th centuries. It includes campaign
 ers\, teachers\, Suffragettes and women whose work improved the lives of o
 thers in the city. The walk content is similar to the Suffragettes themed 
 walk presented earlier this year\, but the route has been extended to incl
 ude some extra locations. At around 2.5 miles\, this is one of our longer 
 walks led at a medium pace.
CATEGORIES:Walking
END:VEVENT
BEGIN:VTIMEZONE
TZID:Europe/London
X-LIC-LOCATION:Europe/London
BEGIN:STANDARD
DTSTART:20211031T010000
TZOFFSETFROM:+0100
TZOFFSETTO:+0000
TZNAME:GMT
END:STANDARD
END:VTIMEZONE
END:VCALENDAR