BEGIN:VCALENDAR
VERSION:2.0
PRODID:-//wp-events-plugin.com//7.2.3.1//EN
TZID:Europe/London
X-WR-TIMEZONE:Europe/London
BEGIN:VEVENT
UID:213@choosehowyoumove.co.uk
DTSTART;TZID=Europe/London:20221124T110000
DTEND;TZID=Europe/London:20221124T123000
DTSTAMP:20221107T160300Z
URL:https://www.choosehowyoumove.co.uk/events/group-walk-leicester-music-v
 enues-3/
SUMMARY:Group Walk: Leicester Music Venues
DESCRIPTION:Join us for a group walk through city streets passing some of L
 eicester's music venues along the way. Discover a little about the venues 
 and the artists who have played here. This is an outdoor event - we are no
 t going inside the venues.
CATEGORIES:Walking
END:VEVENT
BEGIN:VTIMEZONE
TZID:Europe/London
X-LIC-LOCATION:Europe/London
BEGIN:STANDARD
DTSTART:20221030T010000
TZOFFSETFROM:+0100
TZOFFSETTO:+0000
TZNAME:GMT
END:STANDARD
END:VTIMEZONE
END:VCALENDAR