BEGIN:VCALENDAR
VERSION:2.0
PRODID:-//wp-events-plugin.com//7.2.3.1//EN
TZID:Europe/London
X-WR-TIMEZONE:Europe/London
BEGIN:VEVENT
UID:240@choosehowyoumove.co.uk
DTSTART;TZID=Europe/London:20230222T110000
DTEND;TZID=Europe/London:20230222T123000
DTSTAMP:20230127T173848Z
URL:https://www.choosehowyoumove.co.uk/events/group-walk-lets-get-together
 -stroll/
SUMMARY:Group Walk - Let's Get Together Stroll
DESCRIPTION:Enjoy a friendly group walk through pleasant city streets\, rev
 ealing some interesting facts along the way. This walk has a 'memories of 
 Leicester' theme and passes former leisure and entertainment venues in the
  city which have since closed\, but are within living memory. Join us to r
 eminisce or simply to discover a little about Leicester in past decades. T
 his time we finish at the Guildhall\, where staff will provide a mini tour
  (up to 30 minutes). This is a great way to get outdoors\, explore the cit
 y on foot\, meet new people and discover something new. Toilets are availa
 ble in the museum at the end. This short walk is suitable for most. Walkin
 g or wheeling\, we hope you’ll join us!
CATEGORIES:Family,Walking
END:VEVENT
BEGIN:VTIMEZONE
TZID:Europe/London
X-LIC-LOCATION:Europe/London
BEGIN:STANDARD
DTSTART:20221030T010000
TZOFFSETFROM:+0100
TZOFFSETTO:+0000
TZNAME:GMT
END:STANDARD
END:VTIMEZONE
END:VCALENDAR