BEGIN:VCALENDAR
VERSION:2.0
PRODID:-//wp-events-plugin.com//7.2.3.1//EN
TZID:Europe/London
X-WR-TIMEZONE:Europe/London
BEGIN:VEVENT
UID:210@choosehowyoumove.co.uk
DTSTART;TZID=Europe/London:20221203T101500
DTEND;TZID=Europe/London:20221203T110000
DTSTAMP:20221107T150740Z
URL:https://www.choosehowyoumove.co.uk/events/group-walk-lets-get-together
 -winter-walk/
SUMMARY:Group Walk - Let's Get Together Winter Walk
DESCRIPTION:Join us for a sociable stroll! Enjoy a friendly and festive gro
 up walk through pleasant city streets as we take in the festive sights and
  reminisce on Christmas's past. This winter walk finishes back at Leiceste
 r Guildhall where walkers have the option to visit the Christmas Craft Fai
 r afterwards (11am-4pm\, £1 entry fee). This is a great way to get outdoo
 rs\, explore the city on foot\, meet new people and discover something new
 .\nThe walk is free to attend\, short and suitable for most. Walking or wh
 eeling\, we hope you'll join us!
CATEGORIES:Family,Walking
END:VEVENT
BEGIN:VTIMEZONE
TZID:Europe/London
X-LIC-LOCATION:Europe/London
BEGIN:STANDARD
DTSTART:20221030T010000
TZOFFSETFROM:+0100
TZOFFSETTO:+0000
TZNAME:GMT
END:STANDARD
END:VTIMEZONE
END:VCALENDAR