BEGIN:VCALENDAR
VERSION:2.0
PRODID:-//wp-events-plugin.com//7.2.3.1//EN
TZID:Europe/London
X-WR-TIMEZONE:Europe/London
BEGIN:VEVENT
UID:110@choosehowyoumove.co.uk
DTSTART;TZID=Europe/London:20210818T180000
DTEND;TZID=Europe/London:20210818T190000
DTSTAMP:20210812T192559Z
URL:https://www.choosehowyoumove.co.uk/events/group-walk-sculpture-in-the-
 city-evening-stroll/
SUMMARY:Group Walk: Sculpture in the City (Evening stroll)
DESCRIPTION:Sculpture in the City - evening stroll\nWednesday 18 August\, 6
 pm\n60 minutes\, steady pace\nStarting from Richard III statue in Leiceste
 r Cathedral Gardens\, off St Martin's (not far from Jubilee Square)\n\nJoi
 n us for a summer evening stroll through Leicester city centre taking in s
 ome of the city's street sculptures. We pass some established (often overl
 ooked) sculptures in the city as well as some of the attractive and engagi
 ng new temporary sculptures on display this summer as part of the free LOR
 OS Rocket Round Leicester art trail (19 July - 26 September). This is a re
 peat of the walk led in July\, for those who missed it.\nThis short walk i
 s free to attend\, but numbers are limited so please book via Eventbrite o
 r by phone to secure your place when booking has opened. \nFor full detai
 ls about this walk\, click ‘Book your space’ below to visit Eventbrite
 .\n
END:VEVENT
BEGIN:VTIMEZONE
TZID:Europe/London
X-LIC-LOCATION:Europe/London
BEGIN:DAYLIGHT
DTSTART:20210328T020000
TZOFFSETFROM:+0000
TZOFFSETTO:+0100
TZNAME:BST
END:DAYLIGHT
END:VTIMEZONE
END:VCALENDAR