BEGIN:VCALENDAR
VERSION:2.0
PRODID:-//wp-events-plugin.com//7.2.3.1//EN
TZID:Europe/London
X-WR-TIMEZONE:Europe/London
BEGIN:VEVENT
UID:211@choosehowyoumove.co.uk
DTSTART;TZID=Europe/London:20221112T103000
DTEND;TZID=Europe/London:20221112T114500
DTSTAMP:20221107T152626Z
URL:https://www.choosehowyoumove.co.uk/events/group-walk-victoria-park-and
 -welford-road-cemetery-memorial-walk/
SUMMARY:Group Walk: Victoria Park and Welford Road Cemetery memorial walk
DESCRIPTION:A stroll through Victoria Park and peaceful Welford Road Cemete
 ry\, discovering their wartime connections and many memorials.
CATEGORIES:Walking
END:VEVENT
BEGIN:VTIMEZONE
TZID:Europe/London
X-LIC-LOCATION:Europe/London
BEGIN:STANDARD
DTSTART:20221030T010000
TZOFFSETFROM:+0100
TZOFFSETTO:+0000
TZNAME:GMT
END:STANDARD
END:VTIMEZONE
END:VCALENDAR