BEGIN:VCALENDAR
VERSION:2.0
PRODID:-//wp-events-plugin.com//7.2.3.1//EN
TZID:Europe/London
X-WR-TIMEZONE:Europe/London
BEGIN:VEVENT
UID:111@choosehowyoumove.co.uk
DTSTART;TZID=Europe/London:20210825T110000
DTEND;TZID=Europe/London:20210825T123000
DTSTAMP:20210708T164710Z
URL:https://www.choosehowyoumove.co.uk/events/group-walk-victoria-park-que
 ens-road-and-welford-road-cemetery/
SUMMARY:Group Walk: Victoria Park\, Queen's Road and Welford Road Cemetery
DESCRIPTION:A stroll through Victoria Park\, the pleasant residential stree
 ts of Clarendon Park and returning via peaceful Welford Road Cemetery.
CATEGORIES:Walking
END:VEVENT
BEGIN:VTIMEZONE
TZID:Europe/London
X-LIC-LOCATION:Europe/London
BEGIN:DAYLIGHT
DTSTART:20210328T020000
TZOFFSETFROM:+0000
TZOFFSETTO:+0100
TZNAME:BST
END:DAYLIGHT
END:VTIMEZONE
END:VCALENDAR