BEGIN:VCALENDAR
VERSION:2.0
PRODID:-//wp-events-plugin.com//7.2.3.1//EN
TZID:Europe/London
X-WR-TIMEZONE:Europe/London
BEGIN:VEVENT
UID:144@choosehowyoumove.co.uk
DTSTART;TZID=Europe/London:20211030T110000
DTEND;TZID=Europe/London:20211030T123000
DTSTAMP:20211029T202109Z
URL:https://www.choosehowyoumove.co.uk/events/group-walks-abbey-park-to-be
 lgrave-hall-2/
SUMMARY:Group Walks: Abbey Park to Belgrave Hall
DESCRIPTION:Step out with us for a pleasant autumn walk along the scenic Ri
 ver Soar\, passing familiar landmarks including the National Space Centre\
 , Abbey Pumping Station and Belgrave Hall before returning to beautiful Ab
 bey Park via combination of residential and riverside paths. At around 3 m
 iles\, this is one of our longer walks\, led at a medium pace. Booking ess
 ential
CATEGORIES:Walking
END:VEVENT
BEGIN:VTIMEZONE
TZID:Europe/London
X-LIC-LOCATION:Europe/London
BEGIN:DAYLIGHT
DTSTART:20210328T020000
TZOFFSETFROM:+0000
TZOFFSETTO:+0100
TZNAME:BST
END:DAYLIGHT
END:VTIMEZONE
END:VCALENDAR