BEGIN:VCALENDAR
VERSION:2.0
PRODID:-//wp-events-plugin.com//7.2.3.1//EN
TZID:Europe/London
X-WR-TIMEZONE:Europe/London
BEGIN:VEVENT
UID:57@choosehowyoumove.co.uk
DTSTART;TZID=Europe/London:20210429T110000
DTEND;TZID=Europe/London:20210429T123000
DTSTAMP:20210415T141835Z
URL:https://www.choosehowyoumove.co.uk/events/group-walks-abbey-park-to-be
 lgrave-hall/
SUMMARY:Group Walks: Abbey Park to Belgrave Hall
DESCRIPTION:Step out with us for a pleasant walk along the scenic River Soa
 r. We pass familiar landmarks including the National Space Centre\, Abbey 
 Pumping Station and Belgrave Hall. We return to beautiful Abbey Park via c
 ombination of residential and riverside paths. At around 3 miles\, this is
  one of our longer walks\, led at a medium pace
CATEGORIES:Walking
END:VEVENT
BEGIN:VTIMEZONE
TZID:Europe/London
X-LIC-LOCATION:Europe/London
BEGIN:DAYLIGHT
DTSTART:20210328T020000
TZOFFSETFROM:+0000
TZOFFSETTO:+0100
TZNAME:BST
END:DAYLIGHT
END:VTIMEZONE
END:VCALENDAR