BEGIN:VCALENDAR
VERSION:2.0
PRODID:-//wp-events-plugin.com//7.2.3.1//EN
TZID:Europe/London
X-WR-TIMEZONE:Europe/London
BEGIN:VEVENT
UID:215@choosehowyoumove.co.uk
DTSTART;TZID=Europe/London:20221201T180000
DTEND;TZID=Europe/London:20221201T190000
DTSTAMP:20221107T163612Z
URL:https://www.choosehowyoumove.co.uk/events/group-walks-atmospheric-leic
 ester-by-night-lights-and-sites-2/
SUMMARY:Group Walks: Atmospheric Leicester by Night (lights and sites)
DESCRIPTION:Join us for an atmospheric early-evening social walk through th
 e city centre. We pass festive lights\, some of the city's iconic building
 s and attractively lit locations. Our circular walk includes historic Leic
 ester castle\, the Guildhall and other historic buildings\, as well as DMU
 s iconic modern VJ Patel building. We finish back in the city centre.
CATEGORIES:Family,Walking
END:VEVENT
BEGIN:VTIMEZONE
TZID:Europe/London
X-LIC-LOCATION:Europe/London
BEGIN:STANDARD
DTSTART:20221030T010000
TZOFFSETFROM:+0100
TZOFFSETTO:+0000
TZNAME:GMT
END:STANDARD
END:VTIMEZONE
END:VCALENDAR