BEGIN:VCALENDAR
VERSION:2.0
PRODID:-//wp-events-plugin.com//7.2.3.1//EN
TZID:Europe/London
X-WR-TIMEZONE:Europe/London
BEGIN:VEVENT
UID:59@choosehowyoumove.co.uk
DTSTART;TZID=Europe/London:20210505T110000
DTEND;TZID=Europe/London:20210505T123000
DTSTAMP:20210415T154423Z
URL:https://www.choosehowyoumove.co.uk/events/group-walks-braunstone-and-w
 estern-parks/
SUMMARY:Group Walks: Braunstone and Western Parks
DESCRIPTION:Group Walks: Braunstone and Western Parks\nWednesday 5 May at 1
 1am\nLocation to be confirmed on booking\nAround 90 minutes\, medium pace\
 nThis attractive green walk takes in the best of both Braunstone and Weste
 rn Parks\, passing Braunstone Hall along the way. At around 3 miles this i
 s one of our longer walks led at a medium pace.\nOur groups are smaller th
 an before so booking is essential for all participants (including childr
 en under 16\, who must be accompanied by an adult) – please see ‘how t
 o book’ below. Please do not turn up at walks if you have not booked –
  we regret you will be turned away. \nDress for the weather\nPlease remem
 ber to dress appropriately for the weather to ensure you are comfortable. 
 Walkers are recommended to bring a bottle of water with them.\nGroup size\
 nGroup walks will be smaller than before to stay within the ‘rule of 6
 ’ which allows a maximum of 6 people from different households to meet 
 outdoors in a public space. This includes our volunteers who lead and assi
 st the walk. To allow opportunities to others\, a maximum of 2 people from
  the same household/ support bubble may attend. We are sorry that we canno
 t accommodate more people at this time. Please follow instructions for boo
 king places and also observe the guidance below with regards to Covid-19.
  \nCovid-19 and group walks\n\n	Please do not attend a walk if you or som
 eone in your household/support bubble has symptoms of Covid-19. Instead\, 
 please stay home\, self-isolate and book a test. Information about how to 
 order a test online or by phone is detailed on the on the Leicester City 
 Council website.  Please do not attend a walk if you are awaiting the res
 ults of a Covid-19 test. The NHS website provides information about sympt
 oms and more.\n	During walks\, we kindly ask walkers to maintain the 2m s
 ocial distancing from each other and members of the public (or at least 1m
  if you are wearing a face mask). Please respect other people's space.\n	T
 ake hygiene precautions when you are outside (you may wish to carry your o
 wn hand sanitizer) and wash your hands as soon as you are back indoors.\n\
 nSelf-guided routes\nIf you have been unable to book onto one of our group
  walks\, or you prefer to explore with your family or friends\, self-guide
 d routes are available to download from our routes page or via the Go J
 auntly smartphone app. Enjoy exploring Leicester this spring.
CATEGORIES:Walking
END:VEVENT
BEGIN:VTIMEZONE
TZID:Europe/London
X-LIC-LOCATION:Europe/London
BEGIN:DAYLIGHT
DTSTART:20210328T020000
TZOFFSETFROM:+0000
TZOFFSETTO:+0100
TZNAME:BST
END:DAYLIGHT
END:VTIMEZONE
END:VCALENDAR