BEGIN:VCALENDAR
VERSION:2.0
PRODID:-//wp-events-plugin.com//7.2.3.1//EN
TZID:Europe/London
X-WR-TIMEZONE:Europe/London
BEGIN:VEVENT
UID:109@choosehowyoumove.co.uk
DTSTART;TZID=Europe/London:20210817T110000
DTEND;TZID=Europe/London:20210817T120000
DTSTAMP:20210708T155649Z
URL:https://www.choosehowyoumove.co.uk/events/group-walks-bridges-over-the
 -river-soar/
SUMMARY:Group Walks: Bridges over the River Soar
DESCRIPTION:This group walk heads from Belgrave to the National Space Centr
 e via the new Charles Bennion footbridge and returns via the Holden Street
  footbridge. The route uses a combination of residential streets and pleas
 ant riverside paths. This is a repeat of the walk led in July\, for those
  that missed it.
CATEGORIES:Walking
END:VEVENT
BEGIN:VTIMEZONE
TZID:Europe/London
X-LIC-LOCATION:Europe/London
BEGIN:DAYLIGHT
DTSTART:20210328T020000
TZOFFSETFROM:+0000
TZOFFSETTO:+0100
TZNAME:BST
END:DAYLIGHT
END:VTIMEZONE
END:VCALENDAR