BEGIN:VCALENDAR
VERSION:2.0
PRODID:-//wp-events-plugin.com//7.2.3.1//EN
TZID:Europe/London
X-WR-TIMEZONE:Europe/London
BEGIN:VEVENT
UID:107@choosehowyoumove.co.uk
DTSTART;TZID=Europe/London:20210814T110000
DTEND;TZID=Europe/London:20210814T121500
DTSTAMP:20210708T164935Z
URL:https://www.choosehowyoumove.co.uk/events/group-walks-castle-hill-coun
 try-park-anstey-quarter/
SUMMARY:Group Walks: Castle Hill Country Park (Anstey Quarter)
DESCRIPTION:Enjoy a summer morning walk in this semi-rural park on the edge
  of the city which features both grassland and woodland habitats. This is 
 a social walk\, guided by one of our volunteers. The country park includes
  some soft and uneven paths\, please wear appropriate footwear.
CATEGORIES:Walking
END:VEVENT
BEGIN:VTIMEZONE
TZID:Europe/London
X-LIC-LOCATION:Europe/London
BEGIN:DAYLIGHT
DTSTART:20210328T020000
TZOFFSETFROM:+0000
TZOFFSETTO:+0100
TZNAME:BST
END:DAYLIGHT
END:VTIMEZONE
END:VCALENDAR