BEGIN:VCALENDAR
VERSION:2.0
PRODID:-//wp-events-plugin.com//7.2.3.1//EN
TZID:Europe/London
X-WR-TIMEZONE:Europe/London
BEGIN:VEVENT
UID:46@choosehowyoumove.co.uk
DTSTART;TZID=Europe/London:20201028T110000
DTEND;TZID=Europe/London:20201028T123000
DTSTAMP:20201016T093934Z
URL:https://www.choosehowyoumove.co.uk/events/group-walks-factory-trails-3
 -city-centre-2/
SUMMARY:Group Walks - Factory Trails 3: City Centre
DESCRIPTION:Group Walks - Factory Trails 3: City Centre West\nWednesday 28 
 October\, 11am\nStarting in the city centre -  location to be confirmed o
 n booking\nUp to 90 minutes\, steady to medium pace\n\nJoin us for a walk 
 through the city centre passing some of the former factories in the city c
 entre. Learn about the companies who were located there and what they prod
 uced during Leicester’s industrial past. This is a repeat of the walk we
  first led in March\, for those who missed it.\nBooking opens Thursday 8 O
 ctober at 9am. \n\nOur groups are smaller than before so booking is ess
 ential for all participants (including children\, who must be accompanied 
 by an adult) – please see ‘how to book’ below. Please do not turn up
  at walks if you have not booked – we regret you will be turned away. \
 nDress for the weather\nPlease remember to dress appropriately for the wea
 ther to ensure you are comfortable. \nGroup size\nGroup walks will be sma
 ller than before to stay within the ‘rule of 6’ which allows a maxim
 um of 6 people from different households to meet outdoors in a public spac
 e. This includes our volunteers who lead and assist the walk. To allow opp
 ortunities to others\, a maximum of 2 people from the same household/ supp
 ort bubble may attend. We are sorry that we cannot accommodate more people
  at this time. Please follow instructions for booking places and also obse
 rve the guidance below with regards to Covid-19. \nCovid-19 and group wal
 ks\n\n	Please do not attend a walk if you or someone in your household/sup
 port bubble has symptoms of Covid-19. Instead\, please stay home and self-
 isolate. See the latest information on the NHS website about self-isolatin
 g and obtaining a test.\n	If you develop symptoms within 14 days of attend
 ing a group walk\, please let us know so that we can contact others.\n	Dur
 ing walks\, we kindly ask walkers to maintain the 2m social distancing f
 rom each other and members of the public (or at least 1m if you are wearin
 g a face mask).\n	Take hygiene precautions when you are outside (you may w
 ish to carry your own hand sanitizer) and wash your hands as soon as you a
 re back indoors.\n\nSelf-guided routes\nIf you have been unable to book on
 to one of our group walks\, or you prefer to explore with your family or f
 riends\, self-guided routes are available to download from our routes pag
 e or via the Go Jauntly smartphone app. Enjoy exploring Leicester this 
 autumn.\n&nbsp\;
CATEGORIES:Walking
END:VEVENT
BEGIN:VTIMEZONE
TZID:Europe/London
X-LIC-LOCATION:Europe/London
BEGIN:STANDARD
DTSTART:20201025T010000
TZOFFSETFROM:+0100
TZOFFSETTO:+0000
TZNAME:GMT
END:STANDARD
END:VTIMEZONE
END:VCALENDAR