BEGIN:VCALENDAR
VERSION:2.0
PRODID:-//wp-events-plugin.com//7.2.3.1//EN
TZID:Europe/London
X-WR-TIMEZONE:Europe/London
BEGIN:VEVENT
UID:137@choosehowyoumove.co.uk
DTSTART;TZID=Europe/London:20211009T110000
DTEND;TZID=Europe/London:20211009T123000
DTSTAMP:20210827T181037Z
URL:https://www.choosehowyoumove.co.uk/events/group-walks-factory-trails-l
 eicesters-former-knitting-industry-3/
SUMMARY:Group Walks: Factory Trails - Leicester's Former Knitting Industry
DESCRIPTION:We delve again into Leicester’s industrial past. This time we
  take in some of the large companies associated with Leicester’s textile
  industry who enjoyed success well into the 20th century. We pass some wel
 l-known names from Leicester’s industrial hay-day who provided employmen
 t and brought wealth to the city.
CATEGORIES:Walking
END:VEVENT
BEGIN:VTIMEZONE
TZID:Europe/London
X-LIC-LOCATION:Europe/London
BEGIN:DAYLIGHT
DTSTART:20210328T020000
TZOFFSETFROM:+0000
TZOFFSETTO:+0100
TZNAME:BST
END:DAYLIGHT
END:VTIMEZONE
END:VCALENDAR